BEGIN:VCALENDAR
VERSION:2.0
PRODID:-//City of Massillon - ECPv6.15.17.1//NONSGML v1.0//EN
CALSCALE:GREGORIAN
METHOD:PUBLISH
X-ORIGINAL-URL:https://massillonohio.gov
X-WR-CALDESC:Events for City of Massillon
REFRESH-INTERVAL;VALUE=DURATION:PT1H
X-Robots-Tag:noindex
X-PUBLISHED-TTL:PT1H
BEGIN:VTIMEZONE
TZID:America/Detroit
BEGIN:DAYLIGHT
TZOFFSETFROM:-0500
TZOFFSETTO:-0400
TZNAME:EDT
DTSTART:20220313T070000
END:DAYLIGHT
BEGIN:STANDARD
TZOFFSETFROM:-0400
TZOFFSETTO:-0500
TZNAME:EST
DTSTART:20221106T060000
END:STANDARD
BEGIN:DAYLIGHT
TZOFFSETFROM:-0500
TZOFFSETTO:-0400
TZNAME:EDT
DTSTART:20230312T070000
END:DAYLIGHT
BEGIN:STANDARD
TZOFFSETFROM:-0400
TZOFFSETTO:-0500
TZNAME:EST
DTSTART:20231105T060000
END:STANDARD
BEGIN:DAYLIGHT
TZOFFSETFROM:-0500
TZOFFSETTO:-0400
TZNAME:EDT
DTSTART:20240310T070000
END:DAYLIGHT
BEGIN:STANDARD
TZOFFSETFROM:-0400
TZOFFSETTO:-0500
TZNAME:EST
DTSTART:20241103T060000
END:STANDARD
END:VTIMEZONE
BEGIN:VEVENT
DTSTART;TZID=America/Detroit:20231009T170000
DTEND;TZID=America/Detroit:20231009T170000
DTSTAMP:20260419T100851
CREATED:20221219T163525Z
LAST-MODIFIED:20221219T163525Z
UID:5209-1696870800-1696870800@massillonohio.gov
SUMMARY:Civil Service Commission Meeting
DESCRIPTION:A public meeting will be held for the Massillon Civil Service Commission on the second Monday of each month at 5:00 PM.
URL:https://massillonohio.gov/calendar-event/civil-service-commission-meeting-25/
LOCATION:Ivan A. Getz Building\, 54 City Hall Street SE\, Massillon\, OH\, 44646\, United States
CATEGORIES:Public Meeting
ORGANIZER;CN="Jodi DeStefanis":MAILTO:jdestefanis@massillonohio.gov
END:VEVENT
BEGIN:VEVENT
DTSTART;TZID=America/Detroit:20231009T183000
DTEND;TZID=America/Detroit:20231009T183000
DTSTAMP:20260419T100851
CREATED:20230829T135151Z
LAST-MODIFIED:20230829T135151Z
UID:6464-1696876200-1696876200@massillonohio.gov
SUMMARY:Committee Meeting
DESCRIPTION:
URL:https://massillonohio.gov/calendar-event/committee-meeting-45/
LOCATION:Council Chambers\, 1 James Duncan Plaza\, Massillon\, OH\, 44646\, United States
CATEGORIES:City Council Meetings
END:VEVENT
END:VCALENDAR