BEGIN:VCALENDAR
VERSION:2.0
PRODID:-//City of Massillon - ECPv6.15.17.1//NONSGML v1.0//EN
CALSCALE:GREGORIAN
METHOD:PUBLISH
X-ORIGINAL-URL:https://massillonohio.gov
X-WR-CALDESC:Events for City of Massillon
REFRESH-INTERVAL;VALUE=DURATION:PT1H
X-Robots-Tag:noindex
X-PUBLISHED-TTL:PT1H
BEGIN:VTIMEZONE
TZID:America/Detroit
BEGIN:DAYLIGHT
TZOFFSETFROM:-0500
TZOFFSETTO:-0400
TZNAME:EDT
DTSTART:20230312T070000
END:DAYLIGHT
BEGIN:STANDARD
TZOFFSETFROM:-0400
TZOFFSETTO:-0500
TZNAME:EST
DTSTART:20231105T060000
END:STANDARD
BEGIN:DAYLIGHT
TZOFFSETFROM:-0500
TZOFFSETTO:-0400
TZNAME:EDT
DTSTART:20240310T070000
END:DAYLIGHT
BEGIN:STANDARD
TZOFFSETFROM:-0400
TZOFFSETTO:-0500
TZNAME:EST
DTSTART:20241103T060000
END:STANDARD
BEGIN:DAYLIGHT
TZOFFSETFROM:-0500
TZOFFSETTO:-0400
TZNAME:EDT
DTSTART:20250309T070000
END:DAYLIGHT
BEGIN:STANDARD
TZOFFSETFROM:-0400
TZOFFSETTO:-0500
TZNAME:EST
DTSTART:20251102T060000
END:STANDARD
END:VTIMEZONE
BEGIN:VEVENT
DTSTART;TZID=America/Detroit:20240708T170000
DTEND;TZID=America/Detroit:20240708T173000
DTSTAMP:20260422T065024
CREATED:20240110T184312Z
LAST-MODIFIED:20240110T184312Z
UID:98837-1720458000-1720459800@massillonohio.gov
SUMMARY:Civil Service Commission Meeting
DESCRIPTION:
URL:https://massillonohio.gov/calendar-event/civil-service-commission-meeting-34/
LOCATION:Ivan A. Getz Building\, 54 City Hall Street SE\, Massillon\, OH\, 44646\, United States
ORGANIZER;CN="Jim Thieret":MAILTO:jthieret@massillonohio.gov
END:VEVENT
BEGIN:VEVENT
DTSTART;TZID=America/Detroit:20240708T183000
DTEND;TZID=America/Detroit:20240708T183000
DTSTAMP:20260422T065025
CREATED:20240708T202326Z
LAST-MODIFIED:20240708T202737Z
UID:102238-1720463400-1720463400@massillonohio.gov
SUMMARY:Committee Meeting
DESCRIPTION:
URL:https://massillonohio.gov/calendar-event/committee-meeting-70/
LOCATION:Council Chambers\, 1 James Duncan Plaza\, Massillon\, OH\, 44646\, United States
CATEGORIES:City Council Meetings
END:VEVENT
BEGIN:VEVENT
DTSTART;TZID=America/Detroit:20240708T190000
DTEND;TZID=America/Detroit:20240708T210000
DTSTAMP:20260422T065025
CREATED:20240515T140508Z
LAST-MODIFIED:20240515T140508Z
UID:101572-1720465200-1720472400@massillonohio.gov
SUMMARY:Summer Concert Series: Alternation
DESCRIPTION:
URL:https://massillonohio.gov/calendar-event/summer-concert-series-alternation/
LOCATION:Duncan Plaza\, One James Duncan Plaza\, Massillon\, OH\, 44646\, United States
END:VEVENT
END:VCALENDAR