BEGIN:VCALENDAR
VERSION:2.0
PRODID:-//City of Massillon - ECPv6.15.17.1//NONSGML v1.0//EN
CALSCALE:GREGORIAN
METHOD:PUBLISH
X-ORIGINAL-URL:https://massillonohio.gov
X-WR-CALDESC:Events for City of Massillon
REFRESH-INTERVAL;VALUE=DURATION:PT1H
X-Robots-Tag:noindex
X-PUBLISHED-TTL:PT1H
BEGIN:VTIMEZONE
TZID:America/Detroit
BEGIN:DAYLIGHT
TZOFFSETFROM:-0500
TZOFFSETTO:-0400
TZNAME:EDT
DTSTART:20240310T070000
END:DAYLIGHT
BEGIN:STANDARD
TZOFFSETFROM:-0400
TZOFFSETTO:-0500
TZNAME:EST
DTSTART:20241103T060000
END:STANDARD
BEGIN:DAYLIGHT
TZOFFSETFROM:-0500
TZOFFSETTO:-0400
TZNAME:EDT
DTSTART:20250309T070000
END:DAYLIGHT
BEGIN:STANDARD
TZOFFSETFROM:-0400
TZOFFSETTO:-0500
TZNAME:EST
DTSTART:20251102T060000
END:STANDARD
BEGIN:DAYLIGHT
TZOFFSETFROM:-0500
TZOFFSETTO:-0400
TZNAME:EDT
DTSTART:20260308T070000
END:DAYLIGHT
BEGIN:STANDARD
TZOFFSETFROM:-0400
TZOFFSETTO:-0500
TZNAME:EST
DTSTART:20261101T060000
END:STANDARD
END:VTIMEZONE
BEGIN:VEVENT
DTSTART;TZID=America/Detroit:20251129T130000
DTEND;TZID=America/Detroit:20251129T143000
DTSTAMP:20260421T054753
CREATED:20251106T134828Z
LAST-MODIFIED:20251106T134828Z
UID:111726-1764421200-1764426600@massillonohio.gov
SUMMARY:Salt Dough Ornament Workshop
DESCRIPTION:Create lasting memories with salt dough holiday ornaments!\nGift them to loved ones or use them to fill your home with holiday cheer all season long!\n\n\nGuests of all ages are welcome to attend both sessions.\nThe first session will consist of building and forming the ornament\, and the second will consist of guests decorating them after the ornaments dry out.\nRegistration is required.\n\n\nAll supplies will be provided\, but guests are encouraged to wear clothes they do not mind getting messy.\n\n\nAll children under 10 are required to have an adult present.\n\n\nRegistration required: https://massillonlibrary.events.mylibrary.digital/event
URL:https://massillonohio.gov/calendar-event/salt-dough-ornament-workshop-2/
LOCATION:Massillon Public Library\, 208 Lincoln Way East\, Massillon\, OH\, 44646\, United States
END:VEVENT
END:VCALENDAR