BEGIN:VCALENDAR
VERSION:2.0
PRODID:-//City of Massillon - ECPv6.15.17.1//NONSGML v1.0//EN
CALSCALE:GREGORIAN
METHOD:PUBLISH
X-ORIGINAL-URL:https://massillonohio.gov
X-WR-CALDESC:Events for City of Massillon
REFRESH-INTERVAL;VALUE=DURATION:PT1H
X-Robots-Tag:noindex
X-PUBLISHED-TTL:PT1H
BEGIN:VTIMEZONE
TZID:America/Detroit
BEGIN:DAYLIGHT
TZOFFSETFROM:-0500
TZOFFSETTO:-0400
TZNAME:EDT
DTSTART:20210314T070000
END:DAYLIGHT
BEGIN:STANDARD
TZOFFSETFROM:-0400
TZOFFSETTO:-0500
TZNAME:EST
DTSTART:20211107T060000
END:STANDARD
BEGIN:DAYLIGHT
TZOFFSETFROM:-0500
TZOFFSETTO:-0400
TZNAME:EDT
DTSTART:20220313T070000
END:DAYLIGHT
BEGIN:STANDARD
TZOFFSETFROM:-0400
TZOFFSETTO:-0500
TZNAME:EST
DTSTART:20221106T060000
END:STANDARD
BEGIN:DAYLIGHT
TZOFFSETFROM:-0500
TZOFFSETTO:-0400
TZNAME:EDT
DTSTART:20230312T070000
END:DAYLIGHT
BEGIN:STANDARD
TZOFFSETFROM:-0400
TZOFFSETTO:-0500
TZNAME:EST
DTSTART:20231105T060000
END:STANDARD
END:VTIMEZONE
BEGIN:VEVENT
DTSTART;TZID=America/Detroit:20220103T183000
DTEND;TZID=America/Detroit:20220103T213000
DTSTAMP:20260423T101651
CREATED:20211220T153114Z
LAST-MODIFIED:20220103T152358Z
UID:2601-1641234600-1641245400@massillonohio.gov
SUMMARY:City Council Meeting
DESCRIPTION:Due to COVID-19 issues\, this meeting has been rescheduled for MONDAY\, JANUARY 10TH AT 6:00 P.M.
URL:https://massillonohio.gov/calendar-event/city-council-meeting-15/
LOCATION:Council Chambers\, 1 James Duncan Plaza\, Massillon\, OH\, 44646\, United States
CATEGORIES:City Council Meetings
END:VEVENT
END:VCALENDAR