BEGIN:VCALENDAR
VERSION:2.0
PRODID:-//City of Massillon - ECPv6.15.17.1//NONSGML v1.0//EN
CALSCALE:GREGORIAN
METHOD:PUBLISH
X-WR-CALNAME:City of Massillon
X-ORIGINAL-URL:https://massillonohio.gov
X-WR-CALDESC:Events for City of Massillon
REFRESH-INTERVAL;VALUE=DURATION:PT1H
X-Robots-Tag:noindex
X-PUBLISHED-TTL:PT1H
BEGIN:VTIMEZONE
TZID:America/Detroit
BEGIN:DAYLIGHT
TZOFFSETFROM:-0500
TZOFFSETTO:-0400
TZNAME:EDT
DTSTART:20240310T070000
END:DAYLIGHT
BEGIN:STANDARD
TZOFFSETFROM:-0400
TZOFFSETTO:-0500
TZNAME:EST
DTSTART:20241103T060000
END:STANDARD
BEGIN:DAYLIGHT
TZOFFSETFROM:-0500
TZOFFSETTO:-0400
TZNAME:EDT
DTSTART:20250309T070000
END:DAYLIGHT
BEGIN:STANDARD
TZOFFSETFROM:-0400
TZOFFSETTO:-0500
TZNAME:EST
DTSTART:20251102T060000
END:STANDARD
BEGIN:DAYLIGHT
TZOFFSETFROM:-0500
TZOFFSETTO:-0400
TZNAME:EDT
DTSTART:20260308T070000
END:DAYLIGHT
BEGIN:STANDARD
TZOFFSETFROM:-0400
TZOFFSETTO:-0500
TZNAME:EST
DTSTART:20261101T060000
END:STANDARD
END:VTIMEZONE
BEGIN:VEVENT
DTSTART;TZID=America/Detroit:20251126T120000
DTEND;TZID=America/Detroit:20251126T130000
DTSTAMP:20260421T082758
CREATED:20251015T144122Z
LAST-MODIFIED:20251015T144122Z
UID:106185-1764158400-1764162000@massillonohio.gov
SUMMARY:At the Table with Hollie
DESCRIPTION:Join the Massillon Parks & Recreation for “At the Table with Hollie” every Wednesday from 12–1 PM\, through December 17th!\n\n\nDiscover fitness routines\, nutritional tips\, and motivational insights designed to inspire and energize your lifestyle. \n\n\n Location: Massillon Recreation Center\n Dates: Oct. 1 – Dec. 17\n Time: Wednesdays\, 12–1 PM\n\n\nDon’t miss this chance to learn\, grow\, and thrive — we’ll save you a seat at the table!
URL:https://massillonohio.gov/calendar-event/at-the-table-with-hollie-6/
LOCATION:Massillon Recreation Center\, 505 Erie St N\, Massillon\, OH\, 44646\, United States
END:VEVENT
BEGIN:VEVENT
DTSTART;TZID=America/Detroit:20251125T183000
DTEND;TZID=America/Detroit:20251125T200000
DTSTAMP:20260421T082758
CREATED:20251103T145245Z
LAST-MODIFIED:20251103T145245Z
UID:111479-1764095400-1764100800@massillonohio.gov
SUMMARY:Lady Tigers @ Canfield
DESCRIPTION:
URL:https://massillonohio.gov/calendar-event/lady-tigers-canfield/
LOCATION:OH
END:VEVENT
BEGIN:VEVENT
DTSTART;TZID=America/Detroit:20251124T183000
DTEND;TZID=America/Detroit:20251124T183000
DTSTAMP:20260421T082758
CREATED:20251007T181710Z
LAST-MODIFIED:20251007T181714Z
UID:106083-1764009000-1764009000@massillonohio.gov
SUMMARY:Committee Meeting
DESCRIPTION:
URL:https://massillonohio.gov/calendar-event/committee-meeting-83/
LOCATION:Council Chambers\, 1 James Duncan Plaza\, Massillon\, OH\, 44646\, United States
CATEGORIES:City Council Meetings
END:VEVENT
BEGIN:VEVENT
DTSTART;TZID=America/Detroit:20251122T170000
DTEND;TZID=America/Detroit:20251122T200000
DTSTAMP:20260421T082758
CREATED:20250912T195636Z
LAST-MODIFIED:20251006T142611Z
UID:105822-1763830800-1763841600@massillonohio.gov
SUMMARY:Holiday Parade
DESCRIPTION:You are cordially invited to participate in the 70th Annual Holiday Parade sponsored by The Massillon Patriotic Committee on November 22rd\, 2025 at 5:00 p.m. \nAll vehicles are to be fully decorated in a holiday theme\, except for the classic and antique vehicles (Model A’s\, Model T’s\, Corvettes\, etc.). \nParticipating units will line up at 4:00 p.m. on parade day. A map showing the parade line-up and formation areas will be mailed to you approximately one to two weeks before the parade. \nYou MUST remain in the parade until the end of the parade route. For the safety of those participating in the parade and the spectator’s watching\, we will strictly enforce this rule. \nTo be included in the 2025 Massillon Holiday Parade\, please complete and submit this form by November 14th. \nFor questions please contact Lauren Kujath at: 330-832-1621 ext. 125
URL:https://massillonohio.gov/calendar-event/holiday-parade-and-light-up/
LOCATION:OH
END:VEVENT
BEGIN:VEVENT
DTSTART;TZID=America/Detroit:20251122T120000
DTEND;TZID=America/Detroit:20251122T160000
DTSTAMP:20260421T082758
CREATED:20251014T194359Z
LAST-MODIFIED:20251014T194359Z
UID:106163-1763812800-1763827200@massillonohio.gov
SUMMARY:Winter Wonderland
DESCRIPTION:Join the Massillon Public Library and Central Presbyterian Church for our Winter Wonderland Celebration! \nVisit with Santa\, enjoy story time with Mrs. Claus\, meet live reindeer\, decorate your own holiday cookie\, enjoy live music\, and so much more.
URL:https://massillonohio.gov/calendar-event/winter-wonderland/
LOCATION:Massillon Public Library\, 208 Lincoln Way East\, Massillon\, OH\, 44646\, United States
END:VEVENT
BEGIN:VEVENT
DTSTART;TZID=America/Detroit:20251122T100000
DTEND;TZID=America/Detroit:20251122T150000
DTSTAMP:20260421T082758
CREATED:20251104T161009Z
LAST-MODIFIED:20251104T161009Z
UID:111590-1763805600-1763823600@massillonohio.gov
SUMMARY:First Open House
DESCRIPTION:Come and join the Massillon Women’s Club for the holidays. \nPublic Welcome and Free Admission! \nThe Gift Shop will be open. \nCafe Menu – Cafe opens at 11am – sloppy joe\, chicken salad croissant\, tomato basil and chicken noodle soup\, chips\, drink and dessert. \n 
URL:https://massillonohio.gov/calendar-event/first-open-house/
LOCATION:Massillon Woman’s Club\, 210 4th St. NE\, Massillon\, OH\, 44646\, United States
END:VEVENT
BEGIN:VEVENT
DTSTART;TZID=America/Detroit:20251122T090000
DTEND;TZID=America/Detroit:20251122T150000
DTSTAMP:20260421T082758
CREATED:20251016T201218Z
LAST-MODIFIED:20251016T201218Z
UID:106248-1763802000-1763823600@massillonohio.gov
SUMMARY:Get Ready to Give Thanks
DESCRIPTION:Get Ready to Give Thanks! \n720 Market Presents: Pre-Thanksgiving Indoor Pop Up at Tremont Coffee’s New Event Space  \nIt’s easy to pop in and enjoy a handcrafted brew while you shop a wonderfully curated group of our foodie and maker friends!  \n Tremont Coffee & Roastery – 215 Erie St N.\, Massillon \n 30 vendors \nFor more information: https://www.facebook.com/events/1418590199365435
URL:https://massillonohio.gov/calendar-event/get-ready-to-give-thanks/
LOCATION:Tremont Coffee\, 215 Erie Street South\, Massillon\, OH\, 44646\, United States
END:VEVENT
BEGIN:VEVENT
DTSTART;TZID=America/Detroit:20251122T090000
DTEND;TZID=America/Detroit:20251122T120000
DTSTAMP:20260421T082758
CREATED:20250808T194825Z
LAST-MODIFIED:20250808T194825Z
UID:105505-1763802000-1763812800@massillonohio.gov
SUMMARY:Yard Waste Extended Hours
DESCRIPTION:
URL:https://massillonohio.gov/calendar-event/yard-waste-extended-hours-12/
LOCATION:Massillon City Garage\, 401 Walnut Road SW\, Massillon\, OH\, 44646\, United States
END:VEVENT
BEGIN:VEVENT
DTSTART;VALUE=DATE:20251122
DTEND;VALUE=DATE:20251123
DTSTAMP:20260421T082758
CREATED:20251006T142027Z
LAST-MODIFIED:20251006T142246Z
UID:106049-1763769600-1763855999@massillonohio.gov
SUMMARY:Holly Days Light-Up
DESCRIPTION:We are so excited to be heading into the 2025 Holiday season. The Downtown Massillon Association is busy preparing for our Holly Days Light Up Event\, Saturday November 22nd. This fun free community event is very dear to us. We gather in and around Duncan Plaza for an evening of celebration and holiday cheer as Santa and Mayor Slutz light up the city’s Christmas tree.\n\n\nWe are looking for interested businesses and organizations to join in the festivities. There is no charge to participate but we do ask that what you provide is free. We encourage you to promote your business or organization at your location. We are looking for holiday-themed carolers\, stage performers\, games\, crafts\, treat giveaways\, costumed characters and the like. For those of you who have participated in Fun Fest this event is the same format just add in some Christmas style.\n\n\nPlease use the attached Google form to sign up. If you have any questions please don’t hesitate to reach out.\nhttps://forms.gle/n9Y5ZvZciaKYAEAb8\n\n\nIn addition to this amazing opportunity\, we also have available dates to sponsor Santa’s Cottage and Downtown Massillon Association holiday light display. All sponsorships are advertised\n\n\nDowntown Massillon Association\n\n\ndowntownmassillonassociation@gmail.com\n\n\nwww.downtownmassillonassociation.org\n\n\nPO Box 208\n\n\nMassillon\, OH 44648\n\n\n234-348-0302
URL:https://massillonohio.gov/calendar-event/holiday-parade/
LOCATION:Downtown Massillon
END:VEVENT
BEGIN:VEVENT
DTSTART;TZID=America/Detroit:20251121T110000
DTEND;TZID=America/Detroit:20251121T140000
DTSTAMP:20260421T082758
CREATED:20251014T160334Z
LAST-MODIFIED:20251014T160421Z
UID:106160-1763722800-1763733600@massillonohio.gov
SUMMARY:All that Glitters!
DESCRIPTION:Massillon Woman’s Club Holiday Luncheon & Fashion Show \nDoors Open 11am\, Luncheon at Noon \n$35 Members/$40 Community \nDoor Prizes & 50/50 Raffle \nCall for reservations: 330-833-4896 starting October 13th for members & October 20th for the community.
URL:https://massillonohio.gov/calendar-event/all-that-glitters-2/
LOCATION:Massillon Woman’s Club\, 210 4th St. NE\, Massillon\, OH\, 44646\, United States
END:VEVENT
BEGIN:VEVENT
DTSTART;TZID=America/Detroit:20251120T190000
DTEND;TZID=America/Detroit:20251120T210000
DTSTAMP:20260421T082758
CREATED:20251103T173016Z
LAST-MODIFIED:20251103T173016Z
UID:111574-1763665200-1763672400@massillonohio.gov
SUMMARY:The 3 Heath Brothers - "Not So Silent Night"
DESCRIPTION:The 3 Heath Brothers are an award-winning vocal group that travels both nationally and internationally. \nAudiences across the country are blown away by their tight harmonies and excellent musicianship. \nA 3HB concert is filled with high energy\, incredible family harmony\, a variety of instruments and song styles\, light acapella arrangements\, a gospel presentation\, and lots of fun. \nAfter a hit show last year\, the brothers return for an encore edition of this wonderful Christmas event.
URL:https://massillonohio.gov/calendar-event/the-3-heath-brothers-not-so-silent-night/
LOCATION:Lion’s Lincoln Theatre\, 156 Lincoln Way East\, Massillon\, OH\, 44646\, United States
END:VEVENT
BEGIN:VEVENT
DTSTART;TZID=America/Detroit:20251120T170000
DTEND;TZID=America/Detroit:20251120T190000
DTSTAMP:20260421T082758
CREATED:20251117T153211Z
LAST-MODIFIED:20251117T153211Z
UID:111804-1763658000-1763665200@massillonohio.gov
SUMMARY:First North Fusion
DESCRIPTION:Food * Fun * Thanks
URL:https://massillonohio.gov/calendar-event/first-north-fusion/
LOCATION:The First North Building\, 50 North Avenue NE\, Massillon\, OH\, 44646\, United States
END:VEVENT
BEGIN:VEVENT
DTSTART;TZID=America/Detroit:20251120T110000
DTEND;TZID=America/Detroit:20251120T140000
DTSTAMP:20260421T082758
CREATED:20251014T160223Z
LAST-MODIFIED:20251014T160223Z
UID:106157-1763636400-1763647200@massillonohio.gov
SUMMARY:All that Glitters!
DESCRIPTION:Massillon Woman’s Club Holiday Luncheon & Fashion Show \nDoors Open 11am\, Luncheon at Noon \n$35 Members/$40 Community \nDoor Prizes & 50/50 Raffle \nCall for reservations: 330-833-4896 starting October 13th for members & October 20th for the community. \n 
URL:https://massillonohio.gov/calendar-event/all-that-glitters/
LOCATION:Massillon Woman’s Club\, 210 4th St. NE\, Massillon\, OH\, 44646\, United States
END:VEVENT
BEGIN:VEVENT
DTSTART;TZID=America/Detroit:20251119T173000
DTEND;TZID=America/Detroit:20251119T190000
DTSTAMP:20260421T082758
CREATED:20251103T145206Z
LAST-MODIFIED:20251103T145206Z
UID:111477-1763573400-1763578800@massillonohio.gov
SUMMARY:Lady Tigers @ Marlington
DESCRIPTION:
URL:https://massillonohio.gov/calendar-event/lady-tigers-marlington/
LOCATION:OH
END:VEVENT
BEGIN:VEVENT
DTSTART;TZID=America/Detroit:20251119T150000
DTEND;TZID=America/Detroit:20251119T190000
DTSTAMP:20260421T082758
CREATED:20250808T194437Z
LAST-MODIFIED:20250808T194437Z
UID:105493-1763564400-1763578800@massillonohio.gov
SUMMARY:Yard Waste Extended Hours
DESCRIPTION:
URL:https://massillonohio.gov/calendar-event/yard-waste-extended-hours-6/
LOCATION:Massillon City Garage\, 401 Walnut Road SW\, Massillon\, OH\, 44646\, United States
END:VEVENT
BEGIN:VEVENT
DTSTART;TZID=America/Detroit:20251119T120000
DTEND;TZID=America/Detroit:20251119T130000
DTSTAMP:20260421T082758
CREATED:20251015T144025Z
LAST-MODIFIED:20251015T144025Z
UID:106183-1763553600-1763557200@massillonohio.gov
SUMMARY:At the Table with Hollie
DESCRIPTION:Join the Massillon Parks & Recreation for “At the Table with Hollie” every Wednesday from 12–1 PM\, through December 17th!\n\n\nDiscover fitness routines\, nutritional tips\, and motivational insights designed to inspire and energize your lifestyle. \n\n\n Location: Massillon Recreation Center\n Dates: Oct. 1 – Dec. 17\n Time: Wednesdays\, 12–1 PM\n\n\nDon’t miss this chance to learn\, grow\, and thrive — we’ll save you a seat at the table!
URL:https://massillonohio.gov/calendar-event/at-the-table-with-hollie-5/
LOCATION:Massillon Recreation Center\, 505 Erie St N\, Massillon\, OH\, 44646\, United States
END:VEVENT
BEGIN:VEVENT
DTSTART;TZID=America/Detroit:20251118T174500
DTEND;TZID=America/Detroit:20251118T190000
DTSTAMP:20260421T082758
CREATED:20251104T212708Z
LAST-MODIFIED:20251104T212708Z
UID:111601-1763487900-1763492400@massillonohio.gov
SUMMARY:Coffee & Cliffhangers
DESCRIPTION:Like coffee?\nEnjoy books that keep you guessing until the very last page?\nJoin the Massillon Public Library for Coffee and Cliffhangers\, a monthly book club for readers who enjoy suspenseful stories\, thrilling twists\, and unforgettable cliffhangers.\nEach month\, we dive into a different edge-of-your-seat novel—think psychological thrillers\, gripping mysteries\, and heart-pounding dramas that leave you wanting more all while enjoying hand crafted drinks from Tremont Coffee.\n\n\nNovember Read: In the House Across the Lake by Riley Sager\n\n\nNo registration required!
URL:https://massillonohio.gov/calendar-event/coffee-cliffhangers-2/
LOCATION:Tremont Coffee\, 215 Erie Street South\, Massillon\, OH\, 44646\, United States
END:VEVENT
BEGIN:VEVENT
DTSTART;TZID=America/Detroit:20251118T173000
DTEND;TZID=America/Detroit:20251118T193000
DTSTAMP:20260421T082758
CREATED:20251028T142421Z
LAST-MODIFIED:20251028T142421Z
UID:111423-1763487000-1763494200@massillonohio.gov
SUMMARY:Chess Club
DESCRIPTION:Play chess at the library on the first and third Tuesdays of each month! \nWhether you’re a longtime chess player or just starting out\, all are welcome. \nOpen to all ages.
URL:https://massillonohio.gov/calendar-event/chess-club-4/
LOCATION:Massillon Public Library\, 208 Lincoln Way East\, Massillon\, OH\, 44646\, United States
END:VEVENT
BEGIN:VEVENT
DTSTART;TZID=America/Detroit:20251118T153000
DTEND;TZID=America/Detroit:20251118T153000
DTSTAMP:20260421T082758
CREATED:20250131T171419Z
LAST-MODIFIED:20250131T171419Z
UID:103545-1763479800-1763479800@massillonohio.gov
SUMMARY:Board of Health Meeting
DESCRIPTION:
URL:https://massillonohio.gov/calendar-event/board-of-health-meeting-10/
LOCATION:Massillon City Health Department\, 611 Erie St. S\, Massillon\, OH\, 44646\, United States
END:VEVENT
BEGIN:VEVENT
DTSTART;TZID=America/Detroit:20251118T123000
DTEND;TZID=America/Detroit:20251118T143000
DTSTAMP:20260421T082758
CREATED:20250725T194254Z
LAST-MODIFIED:20250725T194254Z
UID:105289-1763469000-1763476200@massillonohio.gov
SUMMARY:Pop-Up Pantry
DESCRIPTION:The Massillon City Health Department\, in partnership with the Akron-Canton Regional Foodbank and Massillon City Schools\, is hosting a FREE drive-thru food giveaway at 611 Erie St S from 12:30 PM to 2:30 PM\, while supplies last. Limit one per household.
URL:https://massillonohio.gov/calendar-event/pop-up-pantry-10/
LOCATION:Massillon City Health Department\, 611 Erie St. S\, Massillon\, OH\, 44646\, United States
END:VEVENT
BEGIN:VEVENT
DTSTART;TZID=America/Detroit:20251118T103000
DTEND;TZID=America/Detroit:20251118T113000
DTSTAMP:20260421T082758
CREATED:20250115T143629Z
LAST-MODIFIED:20250115T143629Z
UID:103392-1763461800-1763465400@massillonohio.gov
SUMMARY:Board of Control
DESCRIPTION:
URL:https://massillonohio.gov/calendar-event/board-of-control-101/
LOCATION:Mayors Conference Room\, 151 Lincoln Way East\, Massillon\, OH\, 44646\, United States
END:VEVENT
BEGIN:VEVENT
DTSTART;TZID=America/Detroit:20251118T093000
DTEND;TZID=America/Detroit:20251118T223000
DTSTAMP:20260421T082758
CREATED:20250102T151236Z
LAST-MODIFIED:20250102T151236Z
UID:103228-1763458200-1763505000@massillonohio.gov
SUMMARY:Building Board of Appeals
DESCRIPTION:
URL:https://massillonohio.gov/calendar-event/building-board-of-appeals-11/
LOCATION:Massillon City Hall – Mezzanine Conference Area\, 151 Lincoln Way East\, Massillon\, OH\, 44646\, United States
END:VEVENT
BEGIN:VEVENT
DTSTART;TZID=America/Detroit:20251117T183000
DTEND;TZID=America/Detroit:20251117T183000
DTSTAMP:20260421T082758
CREATED:20251007T181616Z
LAST-MODIFIED:20251007T181622Z
UID:106081-1763404200-1763404200@massillonohio.gov
SUMMARY:Council Meeting
DESCRIPTION:
URL:https://massillonohio.gov/calendar-event/council-meeting-85/
LOCATION:Council Chambers\, 1 James Duncan Plaza\, Massillon\, OH\, 44646\, United States
CATEGORIES:City Council Meetings
END:VEVENT
BEGIN:VEVENT
DTSTART;TZID=America/Detroit:20251116T120000
DTEND;TZID=America/Detroit:20251116T143000
DTSTAMP:20260421T082758
CREATED:20251016T201041Z
LAST-MODIFIED:20251016T201041Z
UID:106246-1763294400-1763303400@massillonohio.gov
SUMMARY:Holidays with the McClymond's
DESCRIPTION:Doors open at 12:00pm \nLunch at 12:30pm \nCost: $35 for members/ $40 for guests \nEntertainment: Julie Dewald and the Massillon East Side Singers \nGift shop and raffle tickets will be available at all events. \nFor reservations call 330-833-4896 or visit massillonwomansclubweebly.com – Open October 10th Members/ October 17th Guests
URL:https://massillonohio.gov/calendar-event/holidays-with-the-mcclymonds-2/
LOCATION:Massillon Woman’s Club\, 210 4th St. NE\, Massillon\, OH\, 44646\, United States
END:VEVENT
BEGIN:VEVENT
DTSTART;TZID=America/Detroit:20251115T190000
DTEND;TZID=America/Detroit:20251115T210000
DTSTAMP:20260421T082758
CREATED:20251022T123803Z
LAST-MODIFIED:20251028T141101Z
UID:106313-1763233200-1763240400@massillonohio.gov
SUMMARY:A Christmas Cabaret
DESCRIPTION:The Sounds of Christmas\, “A Christmas Cabaret”\, presented by Spotlight Entertainment \nA Christmas concert with tributes to Elvis\, The Carpenters\, Judy Garland\, Perry Como\, Bing Crosby\, Brenda Lee\, Nat King Cole and Many more. \nAll your favorite Christmas classic hits round out this fantastic evening of entertainment. \nFor reservations: Call the Box Office 330-481-9105 or tickettailor.com
URL:https://massillonohio.gov/calendar-event/a-christmas-cabaret/
LOCATION:Lion’s Lincoln Theatre\, 156 Lincoln Way East\, Massillon\, OH\, 44646\, United States
END:VEVENT
BEGIN:VEVENT
DTSTART;TZID=America/Detroit:20251115T171500
DTEND;TZID=America/Detroit:20251115T193000
DTSTAMP:20260421T082758
CREATED:20251016T195837Z
LAST-MODIFIED:20251028T134841Z
UID:106241-1763226900-1763235000@massillonohio.gov
SUMMARY:Holidays with the McClymond's
DESCRIPTION:Doors open at 5:15pm – Hors d’oeuvres and punch in the ballroom \nDinner at 6:15pm \nCost: $45 for members/ $50 for guests \nEntertainment: Harpist & Pianist \nGift shop and raffle tickets will be available at all events. \nFor reservations call 330-833-4896 or visit massillonwomansclubweebly.com – Open October 10th Members/ October 17th Guests \n 
URL:https://massillonohio.gov/calendar-event/holidays-with-the-mcclymonds/
LOCATION:Massillon Woman’s Club\, 210 4th St. NE\, Massillon\, OH\, 44646\, United States
END:VEVENT
BEGIN:VEVENT
DTSTART;TZID=America/Detroit:20251115T150000
DTEND;TZID=America/Detroit:20251115T163000
DTSTAMP:20260421T082758
CREATED:20251104T181335Z
LAST-MODIFIED:20251104T181335Z
UID:111598-1763218800-1763224200@massillonohio.gov
SUMMARY:Reminiscing in Massillon - Restoring your Old House
DESCRIPTION:Main Auditorium \nRegistration required
URL:https://massillonohio.gov/calendar-event/reminiscing-in-massillon-restoring-your-old-house/
LOCATION:Massillon Public Library\, 208 Lincoln Way East\, Massillon\, OH\, 44646\, United States
END:VEVENT
BEGIN:VEVENT
DTSTART;TZID=America/Detroit:20251115T130000
DTEND;TZID=America/Detroit:20251115T143000
DTSTAMP:20260421T082758
CREATED:20251106T134726Z
LAST-MODIFIED:20251106T134726Z
UID:111724-1763211600-1763217000@massillonohio.gov
SUMMARY:Salt Dough Ornament Workshop
DESCRIPTION:Create lasting memories with salt dough holiday ornaments!\nGift them to loved ones or use them to fill your home with holiday cheer all season long!\n\n\nGuests of all ages are welcome to attend both sessions.\nThe first session will consist of building and forming the ornament\, and the second will consist of guests decorating them after the ornaments dry out.\nRegistration is required.\n\n\nAll supplies will be provided\, but guests are encouraged to wear clothes they do not mind getting messy.\n\n\nAll children under 10 are required to have an adult present.\n\n\nRegistration required: https://massillonlibrary.events.mylibrary.digital/event
URL:https://massillonohio.gov/calendar-event/salt-dough-ornament-workshop/
LOCATION:Massillon Public Library\, 208 Lincoln Way East\, Massillon\, OH\, 44646\, United States
END:VEVENT
BEGIN:VEVENT
DTSTART;TZID=America/Detroit:20251115T090000
DTEND;TZID=America/Detroit:20251115T120000
DTSTAMP:20260421T082758
CREATED:20250808T194748Z
LAST-MODIFIED:20250808T194748Z
UID:105503-1763197200-1763208000@massillonohio.gov
SUMMARY:Yard Waste Extended Hours
DESCRIPTION:
URL:https://massillonohio.gov/calendar-event/yard-waste-extended-hours-11/
LOCATION:Massillon City Garage\, 401 Walnut Road SW\, Massillon\, OH\, 44646\, United States
END:VEVENT
BEGIN:VEVENT
DTSTART;TZID=America/Detroit:20251114T120000
DTEND;TZID=America/Detroit:20251114T163000
DTSTAMP:20260421T082758
CREATED:20250930T180216Z
LAST-MODIFIED:20251106T135449Z
UID:105932-1763121600-1763137800@massillonohio.gov
SUMMARY:Classic Film Double Feature
DESCRIPTION:From Fred & Ginger to Bogey and Bacall\, join us at the main library on the 2nd Friday of every month for Classic Film Double Feature.\nWe will have two movies (with the same general theme) per Double Feature day!\n\n\nThis month’s theme is Greek Mythology.\n\n\nPopcorn\, water\, and coffee will be available at every showtime\, every month. ALL AGES WELCOME!\n\n\nNo registration required.\nMovie suggestions welcome!
URL:https://massillonohio.gov/calendar-event/classic-film-double-feature-2/
LOCATION:Massillon Public Library\, 208 Lincoln Way East\, Massillon\, OH\, 44646\, United States
END:VEVENT
END:VCALENDAR