BEGIN:VCALENDAR
VERSION:2.0
PRODID:-//City of Massillon - ECPv6.15.17.1//NONSGML v1.0//EN
CALSCALE:GREGORIAN
METHOD:PUBLISH
X-WR-CALNAME:City of Massillon
X-ORIGINAL-URL:https://massillonohio.gov
X-WR-CALDESC:Events for City of Massillon
REFRESH-INTERVAL;VALUE=DURATION:PT1H
X-Robots-Tag:noindex
X-PUBLISHED-TTL:PT1H
BEGIN:VTIMEZONE
TZID:America/Detroit
BEGIN:DAYLIGHT
TZOFFSETFROM:-0500
TZOFFSETTO:-0400
TZNAME:EDT
DTSTART:20230312T070000
END:DAYLIGHT
BEGIN:STANDARD
TZOFFSETFROM:-0400
TZOFFSETTO:-0500
TZNAME:EST
DTSTART:20231105T060000
END:STANDARD
BEGIN:DAYLIGHT
TZOFFSETFROM:-0500
TZOFFSETTO:-0400
TZNAME:EDT
DTSTART:20240310T070000
END:DAYLIGHT
BEGIN:STANDARD
TZOFFSETFROM:-0400
TZOFFSETTO:-0500
TZNAME:EST
DTSTART:20241103T060000
END:STANDARD
BEGIN:DAYLIGHT
TZOFFSETFROM:-0500
TZOFFSETTO:-0400
TZNAME:EDT
DTSTART:20250309T070000
END:DAYLIGHT
BEGIN:STANDARD
TZOFFSETFROM:-0400
TZOFFSETTO:-0500
TZNAME:EST
DTSTART:20251102T060000
END:STANDARD
END:VTIMEZONE
BEGIN:VEVENT
DTSTART;TZID=America/Detroit:20240916T183000
DTEND;TZID=America/Detroit:20240916T183000
DTSTAMP:20260420T040519
CREATED:20240715T173352Z
LAST-MODIFIED:20240715T173356Z
UID:102321-1726511400-1726511400@massillonohio.gov
SUMMARY:Council Meeting
DESCRIPTION:
URL:https://massillonohio.gov/calendar-event/council-meeting-71/
LOCATION:Council Chambers\, 1 James Duncan Plaza\, Massillon\, OH\, 44646\, United States
CATEGORIES:City Council Meetings
END:VEVENT
BEGIN:VEVENT
DTSTART;TZID=America/Detroit:20240917T110000
DTEND;TZID=America/Detroit:20240917T113000
DTSTAMP:20260420T040519
CREATED:20240123T151929Z
LAST-MODIFIED:20240904T114352Z
UID:99306-1726570800-1726572600@massillonohio.gov
SUMMARY:Board of Control
DESCRIPTION:Board of Control
URL:https://massillonohio.gov/calendar-event/board-of-control-72/
LOCATION:Mayors Conference Room\, 151 Lincoln Way East\, Massillon\, OH\, 44646\, United States
END:VEVENT
BEGIN:VEVENT
DTSTART;TZID=America/Detroit:20240917T130000
DTEND;TZID=America/Detroit:20240917T140000
DTSTAMP:20260420T040519
CREATED:20240916T122734Z
LAST-MODIFIED:20240916T122807Z
UID:102609-1726578000-1726581600@massillonohio.gov
SUMMARY:Board of Building Appeals
DESCRIPTION:Board of Building Appeals
URL:https://massillonohio.gov/calendar-event/board-of-building-appeals/
LOCATION:Massillon City Hall – Mezzanine Conference Area\, 151 Lincoln Way East\, Massillon\, OH\, 44646\, United States
END:VEVENT
BEGIN:VEVENT
DTSTART;VALUE=DATE:20240923
DTEND;VALUE=DATE:20240924
DTSTAMP:20260420T040519
CREATED:20240715T173616Z
LAST-MODIFIED:20240715T173621Z
UID:102325-1727049600-1727135999@massillonohio.gov
SUMMARY:No Meeting
DESCRIPTION:
URL:https://massillonohio.gov/calendar-event/no-meeting-4/
LOCATION:Council Chambers\, 1 James Duncan Plaza\, Massillon\, OH\, 44646\, United States
CATEGORIES:City Council Meetings
END:VEVENT
BEGIN:VEVENT
DTSTART;TZID=America/Detroit:20240928T110000
DTEND;TZID=America/Detroit:20240928T140000
DTSTAMP:20260420T040519
CREATED:20240515T141359Z
LAST-MODIFIED:20240919T121447Z
UID:101592-1727521200-1727532000@massillonohio.gov
SUMMARY:Fall into Wellness with Massillon
DESCRIPTION:Health & Wellness Fair
URL:https://massillonohio.gov/calendar-event/kids-funfest/
LOCATION:Duncan Plaza\, One James Duncan Plaza\, Massillon\, OH\, 44646\, United States
END:VEVENT
BEGIN:VEVENT
DTSTART;TZID=America/Detroit:20240930T183000
DTEND;TZID=America/Detroit:20240930T183000
DTSTAMP:20260420T040519
CREATED:20240715T173701Z
LAST-MODIFIED:20240715T173706Z
UID:102327-1727721000-1727721000@massillonohio.gov
SUMMARY:Committee Meeting
DESCRIPTION:
URL:https://massillonohio.gov/calendar-event/committee-meeting-71/
LOCATION:Council Chambers\, 1 James Duncan Plaza\, Massillon\, OH\, 44646\, United States
CATEGORIES:City Council Meetings
END:VEVENT
BEGIN:VEVENT
DTSTART;TZID=America/Detroit:20241005T110000
DTEND;TZID=America/Detroit:20241005T160000
DTSTAMP:20260420T040519
CREATED:20240515T141631Z
LAST-MODIFIED:20241003T184122Z
UID:101598-1728126000-1728144000@massillonohio.gov
SUMMARY:Massillon Arts Council Artober Fest
DESCRIPTION:
URL:https://massillonohio.gov/calendar-event/massillon-arts-council-artober-fest/
LOCATION:Duncan Plaza\, One James Duncan Plaza\, Massillon\, OH\, 44646\, United States
END:VEVENT
BEGIN:VEVENT
DTSTART;TZID=America/Detroit:20241005T160000
DTEND;TZID=America/Detroit:20241005T200000
DTSTAMP:20260420T040519
CREATED:20240515T141549Z
LAST-MODIFIED:20240925T130448Z
UID:101596-1728144000-1728158400@massillonohio.gov
SUMMARY:Massillon Zombie Walk
DESCRIPTION:
URL:https://massillonohio.gov/calendar-event/massillon-zombie-walk/
LOCATION:Duncan Plaza\, One James Duncan Plaza\, Massillon\, OH\, 44646\, United States
END:VEVENT
BEGIN:VEVENT
DTSTART;TZID=America/Detroit:20241007T183000
DTEND;TZID=America/Detroit:20241007T183000
DTSTAMP:20260420T040519
CREATED:20240802T150545Z
LAST-MODIFIED:20240802T150637Z
UID:102482-1728325800-1728325800@massillonohio.gov
SUMMARY:Council Meeting
DESCRIPTION:
URL:https://massillonohio.gov/calendar-event/council-meeting/
LOCATION:Council Chambers\, 1 James Duncan Plaza\, Massillon\, OH\, 44646\, United States
CATEGORIES:City Council Meetings
END:VEVENT
BEGIN:VEVENT
DTSTART;TZID=America/Detroit:20241008T153000
DTEND;TZID=America/Detroit:20241008T160000
DTSTAMP:20260420T040519
CREATED:20240123T152024Z
LAST-MODIFIED:20240930T141948Z
UID:99308-1728401400-1728403200@massillonohio.gov
SUMMARY:Board of Control
DESCRIPTION:Board of Control
URL:https://massillonohio.gov/calendar-event/board-of-control-73/
LOCATION:Mayors Conference Room\, 151 Lincoln Way East\, Massillon\, OH\, 44646\, United States
END:VEVENT
BEGIN:VEVENT
DTSTART;TZID=America/Detroit:20241009T163000
DTEND;TZID=America/Detroit:20241009T173000
DTSTAMP:20260420T040519
CREATED:20240103T151859Z
LAST-MODIFIED:20240103T151859Z
UID:98640-1728491400-1728495000@massillonohio.gov
SUMMARY:Planning Commission
DESCRIPTION:
URL:https://massillonohio.gov/calendar-event/planning-commission-39/
LOCATION:Ivan A. Getz Building\, 54 City Hall Street SE\, Massillon\, OH\, 44646\, United States
END:VEVENT
BEGIN:VEVENT
DTSTART;TZID=America/Detroit:20241014T183000
DTEND;TZID=America/Detroit:20241014T183000
DTSTAMP:20260420T040519
CREATED:20240802T150958Z
LAST-MODIFIED:20240802T151002Z
UID:102486-1728930600-1728930600@massillonohio.gov
SUMMARY:Committee Meeting
DESCRIPTION:
URL:https://massillonohio.gov/calendar-event/committee-meeting/
LOCATION:Council Chambers\, 1 James Duncan Plaza\, Massillon\, OH\, 44646\, United States
CATEGORIES:City Council Meetings
END:VEVENT
BEGIN:VEVENT
DTSTART;TZID=America/Detroit:20241015T170000
DTEND;TZID=America/Detroit:20241015T180000
DTSTAMP:20260420T040519
CREATED:20241008T184725Z
LAST-MODIFIED:20241008T184725Z
UID:102670-1729011600-1729015200@massillonohio.gov
SUMMARY:Regular Civil Service Commission Meeting
DESCRIPTION:Getz Building 5:00 PM
URL:https://massillonohio.gov/calendar-event/regular-civil-service-commission-meeting/
LOCATION:Ivan A. Getz Building\, 54 City Hall Street SE\, Massillon\, OH\, 44646\, United States
END:VEVENT
BEGIN:VEVENT
DTSTART;TZID=America/Detroit:20241021T183000
DTEND;TZID=America/Detroit:20241021T183000
DTSTAMP:20260420T040519
CREATED:20240802T151049Z
LAST-MODIFIED:20240802T151054Z
UID:102489-1729535400-1729535400@massillonohio.gov
SUMMARY:Council Meeting
DESCRIPTION:
URL:https://massillonohio.gov/calendar-event/council-meeting-2/
LOCATION:Council Chambers\, 1 James Duncan Plaza\, Massillon\, OH\, 44646\, United States
CATEGORIES:City Council Meetings
END:VEVENT
BEGIN:VEVENT
DTSTART;TZID=America/Detroit:20241022T160000
DTEND;TZID=America/Detroit:20241022T163000
DTSTAMP:20260420T040519
CREATED:20240123T152058Z
LAST-MODIFIED:20241022T144157Z
UID:99310-1729612800-1729614600@massillonohio.gov
SUMMARY:Board of Control
DESCRIPTION:Board of Control
URL:https://massillonohio.gov/calendar-event/board-of-control-74/
LOCATION:Mayors Conference Room\, 151 Lincoln Way East\, Massillon\, OH\, 44646\, United States
END:VEVENT
BEGIN:VEVENT
DTSTART;TZID=America/Detroit:20241028T183000
DTEND;TZID=America/Detroit:20241028T183000
DTSTAMP:20260420T040519
CREATED:20240802T151137Z
LAST-MODIFIED:20241016T194032Z
UID:102491-1730140200-1730140200@massillonohio.gov
SUMMARY:Committee Meeting
DESCRIPTION:
URL:https://massillonohio.gov/calendar-event/council-meeting-3/
LOCATION:Council Chambers\, 1 James Duncan Plaza\, Massillon\, OH\, 44646\, United States
CATEGORIES:City Council Meetings
END:VEVENT
BEGIN:VEVENT
DTSTART;TZID=America/Detroit:20241104T183000
DTEND;TZID=America/Detroit:20241104T183000
DTSTAMP:20260420T040519
CREATED:20241018T153637Z
LAST-MODIFIED:20241018T153642Z
UID:102738-1730745000-1730745000@massillonohio.gov
SUMMARY:Council Meeting
DESCRIPTION:
URL:https://massillonohio.gov/calendar-event/council-meeting-4/
LOCATION:Council Chambers\, 1 James Duncan Plaza\, Massillon\, OH\, 44646\, United States
CATEGORIES:City Council Meetings
END:VEVENT
BEGIN:VEVENT
DTSTART;TZID=America/Detroit:20241105T103000
DTEND;TZID=America/Detroit:20241105T110000
DTSTAMP:20260420T040519
CREATED:20240123T152541Z
LAST-MODIFIED:20240123T152541Z
UID:99314-1730802600-1730804400@massillonohio.gov
SUMMARY:Board of Control
DESCRIPTION:Board of Control
URL:https://massillonohio.gov/calendar-event/board-of-control-76/
LOCATION:Mayors Conference Room\, 151 Lincoln Way East\, Massillon\, OH\, 44646\, United States
END:VEVENT
BEGIN:VEVENT
DTSTART;TZID=America/Detroit:20241112T080000
DTEND;TZID=America/Detroit:20241112T170000
DTSTAMP:20260420T040519
CREATED:20240110T184616Z
LAST-MODIFIED:20240110T184616Z
UID:98845-1731398400-1731430800@massillonohio.gov
SUMMARY:Civil Service Commission Meeting
DESCRIPTION:
URL:https://massillonohio.gov/calendar-event/civil-service-commission-meeting-38/
LOCATION:Ivan A. Getz Building\, 54 City Hall Street SE\, Massillon\, OH\, 44646\, United States
ORGANIZER;CN="Jim Thieret":MAILTO:jthieret@massillonohio.gov
END:VEVENT
BEGIN:VEVENT
DTSTART;TZID=America/Detroit:20241112T174500
DTEND;TZID=America/Detroit:20241112T183000
DTSTAMP:20260420T040519
CREATED:20241029T195141Z
LAST-MODIFIED:20241029T195146Z
UID:102794-1731433500-1731436200@massillonohio.gov
SUMMARY:Public Utilities and Environmental Committee Meeting
DESCRIPTION:
URL:https://massillonohio.gov/calendar-event/public-utilities-and-environmental-committee-meeting/
LOCATION:Council Chambers\, 1 James Duncan Plaza\, Massillon\, OH\, 44646\, United States
CATEGORIES:City Council Meetings
END:VEVENT
BEGIN:VEVENT
DTSTART;TZID=America/Detroit:20241112T180000
DTEND;TZID=America/Detroit:20241112T180000
DTSTAMP:20260420T040519
CREATED:20241106T165746Z
LAST-MODIFIED:20241106T165754Z
UID:102811-1731434400-1731434400@massillonohio.gov
SUMMARY:Board of Zoning Appeals Meeting
DESCRIPTION:There will be a regular meeting of the Massillon Board of Zoning Appeals on Tuesday\, November 12\, 2024\, at 6:00 p.m. The meeting will be held in the Ivan A. Getz Building\, 54 City Hall Street\, SE\, Massillon\, OH 44646.
URL:https://massillonohio.gov/calendar-event/board-of-zoning-appeals-meeting-3/
LOCATION:Ivan A. Getz Building\, 54 City Hall Street SE\, Massillon\, OH\, 44646\, United States
END:VEVENT
BEGIN:VEVENT
DTSTART;TZID=America/Detroit:20241112T183000
DTEND;TZID=America/Detroit:20241112T183000
DTSTAMP:20260420T040519
CREATED:20241018T153730Z
LAST-MODIFIED:20241023T160927Z
UID:102740-1731436200-1731436200@massillonohio.gov
SUMMARY:Committee Meeting
DESCRIPTION:
URL:https://massillonohio.gov/calendar-event/committee-meeting-2/
LOCATION:Council Chambers\, 1 James Duncan Plaza\, Massillon\, OH\, 44646\, United States
CATEGORIES:City Council Meetings
END:VEVENT
BEGIN:VEVENT
DTSTART;TZID=America/Detroit:20241113T163000
DTEND;TZID=America/Detroit:20241113T173000
DTSTAMP:20260420T040519
CREATED:20240103T151927Z
LAST-MODIFIED:20240103T151927Z
UID:98642-1731515400-1731519000@massillonohio.gov
SUMMARY:Planning Commission
DESCRIPTION:
URL:https://massillonohio.gov/calendar-event/planning-commission-40/
LOCATION:Ivan A. Getz Building\, 54 City Hall Street SE\, Massillon\, OH\, 44646\, United States
END:VEVENT
BEGIN:VEVENT
DTSTART;TZID=America/Detroit:20241118T183000
DTEND;TZID=America/Detroit:20241118T183000
DTSTAMP:20260420T040519
CREATED:20241018T153816Z
LAST-MODIFIED:20241018T153819Z
UID:102742-1731954600-1731954600@massillonohio.gov
SUMMARY:Council Meeting
DESCRIPTION:
URL:https://massillonohio.gov/calendar-event/council-meeting-5/
LOCATION:Council Chambers\, 1 James Duncan Plaza\, Massillon\, OH\, 44646\, United States
CATEGORIES:City Council Meetings
END:VEVENT
BEGIN:VEVENT
DTSTART;TZID=America/Detroit:20241119T103000
DTEND;TZID=America/Detroit:20241119T110000
DTSTAMP:20260420T040520
CREATED:20240123T152606Z
LAST-MODIFIED:20240123T152957Z
UID:99316-1732012200-1732014000@massillonohio.gov
SUMMARY:Board of Control
DESCRIPTION:Board of Control
URL:https://massillonohio.gov/calendar-event/board-of-control-77/
LOCATION:Mayors Conference Room\, 151 Lincoln Way East\, Massillon\, OH\, 44646\, United States
END:VEVENT
BEGIN:VEVENT
DTSTART;TZID=America/Detroit:20241123T170000
DTEND;TZID=America/Detroit:20241123T200000
DTSTAMP:20260420T040520
CREATED:20240515T141706Z
LAST-MODIFIED:20240530T140652Z
UID:101600-1732381200-1732392000@massillonohio.gov
SUMMARY:Massillon Holiday Parade & Tree Lighting
DESCRIPTION:
URL:https://massillonohio.gov/calendar-event/massillon-holiday-parade-tree-lighting/
LOCATION:Duncan Plaza\, One James Duncan Plaza\, Massillon\, OH\, 44646\, United States
END:VEVENT
BEGIN:VEVENT
DTSTART;TZID=America/Detroit:20241125T174500
DTEND;TZID=America/Detroit:20241125T183000
DTSTAMP:20260420T040520
CREATED:20241119T143133Z
LAST-MODIFIED:20241119T143329Z
UID:102842-1732556700-1732559400@massillonohio.gov
SUMMARY:Public Utilities and Environmental Committee Meeting
DESCRIPTION:
URL:https://massillonohio.gov/calendar-event/public-utilities-and-environmental-committee-meeting-2/
LOCATION:Council Chambers\, 1 James Duncan Plaza\, Massillon\, OH\, 44646\, United States
CATEGORIES:City Council Meetings
END:VEVENT
BEGIN:VEVENT
DTSTART;TZID=America/Detroit:20241125T183000
DTEND;TZID=America/Detroit:20241125T183000
DTSTAMP:20260420T040520
CREATED:20241018T153912Z
LAST-MODIFIED:20241018T153918Z
UID:102744-1732559400-1732559400@massillonohio.gov
SUMMARY:Committee Meeting
DESCRIPTION:
URL:https://massillonohio.gov/calendar-event/committee-meeting-4/
LOCATION:Council Chambers\, 1 James Duncan Plaza\, Massillon\, OH\, 44646\, United States
CATEGORIES:City Council Meetings
END:VEVENT
BEGIN:VEVENT
DTSTART;TZID=America/Detroit:20241202T183000
DTEND;TZID=America/Detroit:20241202T183000
DTSTAMP:20260420T040520
CREATED:20241018T154012Z
LAST-MODIFIED:20241018T154016Z
UID:102746-1733164200-1733164200@massillonohio.gov
SUMMARY:Council Meeting
DESCRIPTION:
URL:https://massillonohio.gov/calendar-event/council-meeting-6/
LOCATION:Council Chambers\, 1 James Duncan Plaza\, Massillon\, OH\, 44646\, United States
CATEGORIES:City Council Meetings
END:VEVENT
BEGIN:VEVENT
DTSTART;TZID=America/Detroit:20241204T103000
DTEND;TZID=America/Detroit:20241204T110000
DTSTAMP:20260420T040520
CREATED:20240123T152643Z
LAST-MODIFIED:20241203T145044Z
UID:99318-1733308200-1733310000@massillonohio.gov
SUMMARY:Board of Control
DESCRIPTION:Board of Control
URL:https://massillonohio.gov/calendar-event/board-of-control-78/
LOCATION:Mayors Conference Room\, 151 Lincoln Way East\, Massillon\, OH\, 44646\, United States
END:VEVENT
END:VCALENDAR