BEGIN:VCALENDAR
VERSION:2.0
PRODID:-//City of Massillon - ECPv6.15.17.1//NONSGML v1.0//EN
CALSCALE:GREGORIAN
METHOD:PUBLISH
X-WR-CALNAME:City of Massillon
X-ORIGINAL-URL:https://massillonohio.gov
X-WR-CALDESC:Events for City of Massillon
REFRESH-INTERVAL;VALUE=DURATION:PT1H
X-Robots-Tag:noindex
X-PUBLISHED-TTL:PT1H
BEGIN:VTIMEZONE
TZID:America/Detroit
BEGIN:DAYLIGHT
TZOFFSETFROM:-0500
TZOFFSETTO:-0400
TZNAME:EDT
DTSTART:20250309T070000
END:DAYLIGHT
BEGIN:STANDARD
TZOFFSETFROM:-0400
TZOFFSETTO:-0500
TZNAME:EST
DTSTART:20251102T060000
END:STANDARD
BEGIN:DAYLIGHT
TZOFFSETFROM:-0500
TZOFFSETTO:-0400
TZNAME:EDT
DTSTART:20260308T070000
END:DAYLIGHT
BEGIN:STANDARD
TZOFFSETFROM:-0400
TZOFFSETTO:-0500
TZNAME:EST
DTSTART:20261101T060000
END:STANDARD
BEGIN:DAYLIGHT
TZOFFSETFROM:-0500
TZOFFSETTO:-0400
TZNAME:EDT
DTSTART:20270314T070000
END:DAYLIGHT
BEGIN:STANDARD
TZOFFSETFROM:-0400
TZOFFSETTO:-0500
TZNAME:EST
DTSTART:20271107T060000
END:STANDARD
END:VTIMEZONE
BEGIN:VEVENT
DTSTART;TZID=America/Detroit:20261014T163000
DTEND;TZID=America/Detroit:20261014T170000
DTSTAMP:20260422T053953
CREATED:20260102T143550Z
LAST-MODIFIED:20260102T143550Z
UID:112077-1791995400-1791997200@massillonohio.gov
SUMMARY:Planning Commission
DESCRIPTION:Planning Commission
URL:https://massillonohio.gov/calendar-event/planning-commission-63/
LOCATION:Ivan A. Getz Building\, 54 City Hall Street SE\, Massillon\, OH\, 44646\, United States
CATEGORIES:Public Meeting
END:VEVENT
BEGIN:VEVENT
DTSTART;TZID=America/Detroit:20261020T093000
DTEND;TZID=America/Detroit:20261020T110000
DTSTAMP:20260422T053953
CREATED:20260102T144939Z
LAST-MODIFIED:20260102T144939Z
UID:112101-1792488600-1792494000@massillonohio.gov
SUMMARY:Board of Building Appeals
DESCRIPTION:Board of Building Appeals
URL:https://massillonohio.gov/calendar-event/board-of-building-appeals-12/
LOCATION:Massillon City Hall – Mezzanine Conference Area\, 151 Lincoln Way East\, Massillon\, OH\, 44646\, United States
CATEGORIES:Public Meeting
END:VEVENT
BEGIN:VEVENT
DTSTART;TZID=America/Detroit:20261020T103000
DTEND;TZID=America/Detroit:20261020T103000
DTSTAMP:20260422T053953
CREATED:20260102T150919Z
LAST-MODIFIED:20260102T150919Z
UID:112148-1792492200-1792492200@massillonohio.gov
SUMMARY:Board of Control
DESCRIPTION:Board of Control
URL:https://massillonohio.gov/calendar-event/board-of-control-125/
LOCATION:OH
CATEGORIES:Public Meeting
END:VEVENT
BEGIN:VEVENT
DTSTART;TZID=America/Detroit:20261027T153000
DTEND;TZID=America/Detroit:20261027T163000
DTSTAMP:20260422T053953
CREATED:20260206T203128Z
LAST-MODIFIED:20260206T203128Z
UID:112491-1793115000-1793118600@massillonohio.gov
SUMMARY:Board of Health Meeting
DESCRIPTION:
URL:https://massillonohio.gov/calendar-event/board-of-health-meeting-21/
LOCATION:Massillon City Health Department\, 611 Erie St. S\, Massillon\, OH\, 44646\, United States
END:VEVENT
BEGIN:VEVENT
DTSTART;TZID=America/Detroit:20261103T103000
DTEND;TZID=America/Detroit:20261103T110000
DTSTAMP:20260422T053953
CREATED:20260102T151001Z
LAST-MODIFIED:20260102T151001Z
UID:112150-1793701800-1793703600@massillonohio.gov
SUMMARY:Board of Control
DESCRIPTION:Board of Control
URL:https://massillonohio.gov/calendar-event/board-of-control-126/
LOCATION:OH
CATEGORIES:Public Meeting
END:VEVENT
BEGIN:VEVENT
DTSTART;TZID=America/Detroit:20261104T163000
DTEND;TZID=America/Detroit:20261104T170000
DTSTAMP:20260422T053953
CREATED:20260102T143747Z
LAST-MODIFIED:20260102T143747Z
UID:112079-1793809800-1793811600@massillonohio.gov
SUMMARY:Planning Commission
DESCRIPTION:Planning Commission
URL:https://massillonohio.gov/calendar-event/planning-commission-64/
LOCATION:Ivan A. Getz Building\, 54 City Hall Street SE\, Massillon\, OH\, 44646\, United States
CATEGORIES:Public Meeting
END:VEVENT
BEGIN:VEVENT
DTSTART;TZID=America/Detroit:20261117T093000
DTEND;TZID=America/Detroit:20261117T103000
DTSTAMP:20260422T053953
CREATED:20260102T145022Z
LAST-MODIFIED:20260102T145022Z
UID:112103-1794907800-1794911400@massillonohio.gov
SUMMARY:Board of Building Appeals
DESCRIPTION:Board of Building Appeals
URL:https://massillonohio.gov/calendar-event/board-of-building-appeals-13/
LOCATION:Massillon City Hall – Mezzanine Conference Area\, 151 Lincoln Way East\, Massillon\, OH\, 44646\, United States
CATEGORIES:Public Meeting
END:VEVENT
BEGIN:VEVENT
DTSTART;TZID=America/Detroit:20261117T103000
DTEND;TZID=America/Detroit:20261117T110000
DTSTAMP:20260422T053953
CREATED:20260102T151053Z
LAST-MODIFIED:20260102T151053Z
UID:112152-1794911400-1794913200@massillonohio.gov
SUMMARY:Board of Control
DESCRIPTION:Board of Control
URL:https://massillonohio.gov/calendar-event/board-of-control-127/
LOCATION:OH
CATEGORIES:Public Meeting
END:VEVENT
BEGIN:VEVENT
DTSTART;TZID=America/Detroit:20261117T153000
DTEND;TZID=America/Detroit:20261117T163000
DTSTAMP:20260422T053953
CREATED:20260206T203247Z
LAST-MODIFIED:20260206T203247Z
UID:112493-1794929400-1794933000@massillonohio.gov
SUMMARY:Board of Health Meeting
DESCRIPTION:
URL:https://massillonohio.gov/calendar-event/board-of-health-meeting-22/
LOCATION:Massillon City Health Department\, 611 Erie St. S\, Massillon\, OH\, 44646\, United States
END:VEVENT
BEGIN:VEVENT
DTSTART;TZID=America/Detroit:20261208T103000
DTEND;TZID=America/Detroit:20261208T110000
DTSTAMP:20260422T053953
CREATED:20260102T151125Z
LAST-MODIFIED:20260102T151125Z
UID:112154-1796725800-1796727600@massillonohio.gov
SUMMARY:Board of Control
DESCRIPTION:Board of Control
URL:https://massillonohio.gov/calendar-event/board-of-control-128/
LOCATION:OH
CATEGORIES:Public Meeting
END:VEVENT
BEGIN:VEVENT
DTSTART;TZID=America/Detroit:20261209T163000
DTEND;TZID=America/Detroit:20261209T170000
DTSTAMP:20260422T053953
CREATED:20260102T143825Z
LAST-MODIFIED:20260102T143825Z
UID:112081-1796833800-1796835600@massillonohio.gov
SUMMARY:Planning Commission
DESCRIPTION:Planning Commission
URL:https://massillonohio.gov/calendar-event/planning-commission-65/
LOCATION:Ivan A. Getz Building\, 54 City Hall Street SE\, Massillon\, OH\, 44646\, United States
CATEGORIES:Public Meeting
END:VEVENT
BEGIN:VEVENT
DTSTART;TZID=America/Detroit:20261215T093000
DTEND;TZID=America/Detroit:20261215T100000
DTSTAMP:20260422T053953
CREATED:20260102T145114Z
LAST-MODIFIED:20260102T145114Z
UID:112105-1797327000-1797328800@massillonohio.gov
SUMMARY:Board of Building Appeals
DESCRIPTION:Board of Building Appeals
URL:https://massillonohio.gov/calendar-event/board-of-building-appeals-14/
LOCATION:Massillon City Hall – Mezzanine Conference Area\, 151 Lincoln Way East\, Massillon\, OH\, 44646\, United States
CATEGORIES:Public Meeting
END:VEVENT
BEGIN:VEVENT
DTSTART;TZID=America/Detroit:20261215T153000
DTEND;TZID=America/Detroit:20261215T163000
DTSTAMP:20260422T053953
CREATED:20260206T203345Z
LAST-MODIFIED:20260206T203345Z
UID:112495-1797348600-1797352200@massillonohio.gov
SUMMARY:Board of Health Meeting
DESCRIPTION:
URL:https://massillonohio.gov/calendar-event/board-of-health-meeting-23/
LOCATION:Massillon City Health Department\, 611 Erie St. S\, Massillon\, OH\, 44646\, United States
END:VEVENT
BEGIN:VEVENT
DTSTART;TZID=America/Detroit:20261222T103000
DTEND;TZID=America/Detroit:20261222T110000
DTSTAMP:20260422T053954
CREATED:20260102T151158Z
LAST-MODIFIED:20260102T151158Z
UID:112156-1797935400-1797937200@massillonohio.gov
SUMMARY:Board of Control
DESCRIPTION:Board of Control
URL:https://massillonohio.gov/calendar-event/board-of-control-129/
LOCATION:OH
CATEGORIES:Public Meeting
END:VEVENT
END:VCALENDAR