BEGIN:VCALENDAR
VERSION:2.0
PRODID:-//City of Massillon - ECPv6.15.17.1//NONSGML v1.0//EN
CALSCALE:GREGORIAN
METHOD:PUBLISH
X-ORIGINAL-URL:https://massillonohio.gov
X-WR-CALDESC:Events for City of Massillon
REFRESH-INTERVAL;VALUE=DURATION:PT1H
X-Robots-Tag:noindex
X-PUBLISHED-TTL:PT1H
BEGIN:VTIMEZONE
TZID:America/Detroit
BEGIN:DAYLIGHT
TZOFFSETFROM:-0500
TZOFFSETTO:-0400
TZNAME:EDT
DTSTART:20240310T070000
END:DAYLIGHT
BEGIN:STANDARD
TZOFFSETFROM:-0400
TZOFFSETTO:-0500
TZNAME:EST
DTSTART:20241103T060000
END:STANDARD
BEGIN:DAYLIGHT
TZOFFSETFROM:-0500
TZOFFSETTO:-0400
TZNAME:EDT
DTSTART:20250309T070000
END:DAYLIGHT
BEGIN:STANDARD
TZOFFSETFROM:-0400
TZOFFSETTO:-0500
TZNAME:EST
DTSTART:20251102T060000
END:STANDARD
BEGIN:DAYLIGHT
TZOFFSETFROM:-0500
TZOFFSETTO:-0400
TZNAME:EDT
DTSTART:20260308T070000
END:DAYLIGHT
BEGIN:STANDARD
TZOFFSETFROM:-0400
TZOFFSETTO:-0500
TZNAME:EST
DTSTART:20261101T060000
END:STANDARD
END:VTIMEZONE
BEGIN:VEVENT
DTSTART;TZID=America/Detroit:20250303T183000
DTEND;TZID=America/Detroit:20250303T183000
DTSTAMP:20260422T054040
CREATED:20250127T193420Z
LAST-MODIFIED:20250127T193423Z
UID:103490-1741026600-1741026600@massillonohio.gov
SUMMARY:Council Meeting
DESCRIPTION:
URL:https://massillonohio.gov/calendar-event/council-meeting-12/
LOCATION:Council Chambers\, 1 James Duncan Plaza\, Massillon\, OH\, 44646\, United States
CATEGORIES:City Council Meetings
END:VEVENT
BEGIN:VEVENT
DTSTART;TZID=America/Detroit:20250304T103000
DTEND;TZID=America/Detroit:20250304T113000
DTSTAMP:20260422T054040
CREATED:20250115T142441Z
LAST-MODIFIED:20250115T142441Z
UID:103358-1741084200-1741087800@massillonohio.gov
SUMMARY:Board of Control
DESCRIPTION:
URL:https://massillonohio.gov/calendar-event/board-of-control-84/
LOCATION:Mayors Conference Room\, 151 Lincoln Way East\, Massillon\, OH\, 44646\, United States
END:VEVENT
BEGIN:VEVENT
DTSTART;TZID=America/Detroit:20250308T193000
DTEND;TZID=America/Detroit:20250308T213000
DTSTAMP:20260422T054040
CREATED:20250214T190614Z
LAST-MODIFIED:20250214T190614Z
UID:103705-1741462200-1741469400@massillonohio.gov
SUMMARY:Women of the Rock Hall
DESCRIPTION:
URL:https://massillonohio.gov/calendar-event/women-of-the-rock-hall/
LOCATION:Lion’s Lincoln Theatre\, 156 Lincoln Way East\, Massillon\, OH\, 44646\, United States
END:VEVENT
BEGIN:VEVENT
DTSTART;TZID=America/Detroit:20250309T140000
DTEND;TZID=America/Detroit:20250309T160000
DTSTAMP:20260422T054040
CREATED:20250214T190513Z
LAST-MODIFIED:20250214T190513Z
UID:103703-1741528800-1741536000@massillonohio.gov
SUMMARY:Royal Melodies * A Spring Princess Concert
DESCRIPTION:Meet and Greet with your favorite characters!
URL:https://massillonohio.gov/calendar-event/royal-melodies-a-spring-princess-concert/
LOCATION:Lion’s Lincoln Theatre\, 156 Lincoln Way East\, Massillon\, OH\, 44646\, United States
END:VEVENT
BEGIN:VEVENT
DTSTART;TZID=America/Detroit:20250310T170000
DTEND;TZID=America/Detroit:20250310T180000
DTSTAMP:20260422T054040
CREATED:20250121T214920Z
LAST-MODIFIED:20250121T214920Z
UID:103427-1741626000-1741629600@massillonohio.gov
SUMMARY:Civil Service Commission Meeting
DESCRIPTION:
URL:https://massillonohio.gov/calendar-event/civil-service-commission-meeting-12/
LOCATION:Ivan A. Getz Building\, 54 City Hall Street SE\, Massillon\, OH\, 44646\, United States
END:VEVENT
BEGIN:VEVENT
DTSTART;TZID=America/Detroit:20250310T183000
DTEND;TZID=America/Detroit:20250310T183000
DTSTAMP:20260422T054040
CREATED:20250127T193510Z
LAST-MODIFIED:20250127T193519Z
UID:103492-1741631400-1741631400@massillonohio.gov
SUMMARY:Committee Meeting
DESCRIPTION:
URL:https://massillonohio.gov/calendar-event/committee-meeting-13/
LOCATION:Council Chambers\, 1 James Duncan Plaza\, Massillon\, OH\, 44646\, United States
CATEGORIES:City Council Meetings
END:VEVENT
BEGIN:VEVENT
DTSTART;TZID=America/Detroit:20250312T163000
DTEND;TZID=America/Detroit:20250312T170000
DTSTAMP:20260422T054040
CREATED:20250102T145534Z
LAST-MODIFIED:20250102T145556Z
UID:103180-1741797000-1741798800@massillonohio.gov
SUMMARY:Planning Commission
DESCRIPTION:
URL:https://massillonohio.gov/calendar-event/planning-commission-43/
LOCATION:Ivan A. Getz Building\, 54 City Hall Street SE\, Massillon\, OH\, 44646\, United States
END:VEVENT
BEGIN:VEVENT
DTSTART;TZID=America/Detroit:20250312T180000
DTEND;TZID=America/Detroit:20250312T180000
DTSTAMP:20260422T054040
CREATED:20250307T212740Z
LAST-MODIFIED:20250307T212740Z
UID:103795-1741802400-1741802400@massillonohio.gov
SUMMARY:Board of Zoning Appeals Meeting
DESCRIPTION:There will be a regular meeting of the Massillon Board of Zoning Appeals on Wednesday\, March 12\, 2025\, at 6:00 p.m. The meeting will be held in the Ivan A. Getz Building\, 54 City Hall Street\, SE\, Massillon\, OH 44646.
URL:https://massillonohio.gov/calendar-event/board-of-zoning-appeals-meeting-10/
LOCATION:Ivan A. Getz Building\, 54 City Hall Street SE\, Massillon\, OH\, 44646\, United States
END:VEVENT
BEGIN:VEVENT
DTSTART;TZID=America/Detroit:20250315T183000
DTEND;TZID=America/Detroit:20250315T210000
DTSTAMP:20260422T054040
CREATED:20250214T190205Z
LAST-MODIFIED:20250214T190205Z
UID:103698-1742063400-1742072400@massillonohio.gov
SUMMARY:Lights Out presents a tribute to Frankie Valli and the Four Seasons
DESCRIPTION:Doors at 6:30PM \nShow at 7:30PM
URL:https://massillonohio.gov/calendar-event/lights-out-presents-a-tribute-to-frankie-valli-and-the-four-seasons/
LOCATION:Lion’s Lincoln Theatre\, 156 Lincoln Way East\, Massillon\, OH\, 44646\, United States
END:VEVENT
BEGIN:VEVENT
DTSTART;TZID=America/Detroit:20250317T183000
DTEND;TZID=America/Detroit:20250317T183000
DTSTAMP:20260422T054040
CREATED:20250127T193601Z
LAST-MODIFIED:20250127T193606Z
UID:103494-1742236200-1742236200@massillonohio.gov
SUMMARY:Council Meeting
DESCRIPTION:
URL:https://massillonohio.gov/calendar-event/council-meeting-13/
LOCATION:Council Chambers\, 1 James Duncan Plaza\, Massillon\, OH\, 44646\, United States
CATEGORIES:City Council Meetings
END:VEVENT
BEGIN:VEVENT
DTSTART;TZID=America/Detroit:20250318T093000
DTEND;TZID=America/Detroit:20250318T103000
DTSTAMP:20260422T054040
CREATED:20250102T150844Z
LAST-MODIFIED:20250102T150844Z
UID:103212-1742290200-1742293800@massillonohio.gov
SUMMARY:Building Board of Appeals
DESCRIPTION:
URL:https://massillonohio.gov/calendar-event/building-board-of-appeals-3/
LOCATION:Massillon City Hall – Mezzanine Conference Area\, 151 Lincoln Way East\, Massillon\, OH\, 44646\, United States
END:VEVENT
BEGIN:VEVENT
DTSTART;TZID=America/Detroit:20250318T103000
DTEND;TZID=America/Detroit:20250318T113000
DTSTAMP:20260422T054040
CREATED:20250115T142506Z
LAST-MODIFIED:20250115T142506Z
UID:103360-1742293800-1742297400@massillonohio.gov
SUMMARY:Board of Control
DESCRIPTION:
URL:https://massillonohio.gov/calendar-event/board-of-control-85/
LOCATION:Mayors Conference Room\, 151 Lincoln Way East\, Massillon\, OH\, 44646\, United States
END:VEVENT
BEGIN:VEVENT
DTSTART;TZID=America/Detroit:20250318T120000
DTEND;TZID=America/Detroit:20250318T140000
DTSTAMP:20260422T054040
CREATED:20250131T195544Z
LAST-MODIFIED:20250131T200318Z
UID:103557-1742299200-1742306400@massillonohio.gov
SUMMARY:Pop-Up Pantry
DESCRIPTION:Akron-Canton Regional Foodbank drive thru food distribution.
URL:https://massillonohio.gov/calendar-event/pop-up-pantry-2/
LOCATION:Massillon City Health Department\, 611 Erie St. S\, Massillon\, OH\, 44646\, United States
END:VEVENT
BEGIN:VEVENT
DTSTART;TZID=America/Detroit:20250318T153000
DTEND;TZID=America/Detroit:20250318T153000
DTSTAMP:20260422T054040
CREATED:20250131T165708Z
LAST-MODIFIED:20250303T160727Z
UID:103529-1742311800-1742311800@massillonohio.gov
SUMMARY:Board of Health Meeting
DESCRIPTION:
URL:https://massillonohio.gov/calendar-event/board-of-health-meeting-2/
LOCATION:Massillon City Health Department\, 611 Erie St. S\, Massillon\, OH\, 44646\, United States
END:VEVENT
BEGIN:VEVENT
DTSTART;TZID=America/Detroit:20250322T193000
DTEND;TZID=America/Detroit:20250322T220000
DTSTAMP:20260422T054040
CREATED:20250214T190343Z
LAST-MODIFIED:20250214T190343Z
UID:103701-1742671800-1742680800@massillonohio.gov
SUMMARY:A tribute night to James Taylor featuring Steamroller
DESCRIPTION:
URL:https://massillonohio.gov/calendar-event/a-tribute-night-to-james-taylor-featuring-steamroller/
LOCATION:Lion’s Lincoln Theatre\, 156 Lincoln Way East\, Massillon\, OH\, 44646\, United States
END:VEVENT
BEGIN:VEVENT
DTSTART;VALUE=DATE:20250324
DTEND;VALUE=DATE:20250325
DTSTAMP:20260422T054040
CREATED:20250127T193642Z
LAST-MODIFIED:20250127T193647Z
UID:103496-1742774400-1742860799@massillonohio.gov
SUMMARY:No Meeting
DESCRIPTION:
URL:https://massillonohio.gov/calendar-event/no-meeting-6/
LOCATION:Council Chambers\, 1 James Duncan Plaza\, Massillon\, OH\, 44646\, United States
CATEGORIES:City Council Meetings
END:VEVENT
BEGIN:VEVENT
DTSTART;TZID=America/Detroit:20250331T183000
DTEND;TZID=America/Detroit:20250331T183000
DTSTAMP:20260422T054040
CREATED:20250127T193735Z
LAST-MODIFIED:20250127T193739Z
UID:103498-1743445800-1743445800@massillonohio.gov
SUMMARY:Committee Meeting
DESCRIPTION:
URL:https://massillonohio.gov/calendar-event/committee-meeting-14/
LOCATION:Council Chambers\, 1 James Duncan Plaza\, Massillon\, OH\, 44646\, United States
CATEGORIES:City Council Meetings
END:VEVENT
BEGIN:VEVENT
DTSTART;TZID=America/Detroit:20250403T090000
DTEND;TZID=America/Detroit:20250403T090000
DTSTAMP:20260422T054040
CREATED:20250324T172334Z
LAST-MODIFIED:20250324T172437Z
UID:103875-1743670800-1743670800@massillonohio.gov
SUMMARY:Health Department Financial Processes Discussion
DESCRIPTION:
URL:https://massillonohio.gov/calendar-event/health-department-financial-processes-discussion/
LOCATION:Massillon City Health Department\, 611 Erie St. S\, Massillon\, OH\, 44646\, United States
END:VEVENT
BEGIN:VEVENT
DTSTART;TZID=America/Detroit:20250404T190000
DTEND;TZID=America/Detroit:20250404T210000
DTSTAMP:20260422T054040
CREATED:20250314T195032Z
LAST-MODIFIED:20250314T195032Z
UID:103816-1743793200-1743800400@massillonohio.gov
SUMMARY:All of Phil Collins' Best!
DESCRIPTION:Tickets: $35/$27
URL:https://massillonohio.gov/calendar-event/all-of-phil-collins-best/
LOCATION:Lion’s Lincoln Theatre\, 156 Lincoln Way East\, Massillon\, OH\, 44646\, United States
END:VEVENT
BEGIN:VEVENT
DTSTART;TZID=America/Detroit:20250405T090000
DTEND;TZID=America/Detroit:20250405T110000
DTSTAMP:20260422T054040
CREATED:20250314T153414Z
LAST-MODIFIED:20250314T153414Z
UID:103808-1743843600-1743850800@massillonohio.gov
SUMMARY:Breakfast with the Easter Bunny & Egg Hunt
DESCRIPTION:$15 for Adults \n$12 for Kids 12 and under \nChildren will enjoy a buffet breakfast with the Easter Bunny and participate in an Easter Egg Hunt! \nPre-registration is required to attend this even. Please sign up before March 29th\, online at MassillonParks.com or 330-832-1621
URL:https://massillonohio.gov/calendar-event/breakfast-with-the-easter-bunny-egg-hunt/
LOCATION:The Legends of Massillon\, 2700 Augusta Drive SE\, Massillon\, OH\, 44646\, United States
END:VEVENT
BEGIN:VEVENT
DTSTART;TZID=America/Detroit:20250407T183000
DTEND;TZID=America/Detroit:20250407T183000
DTSTAMP:20260422T054040
CREATED:20250321T145255Z
LAST-MODIFIED:20250321T145300Z
UID:103837-1744050600-1744050600@massillonohio.gov
SUMMARY:Council Meeting
DESCRIPTION:
URL:https://massillonohio.gov/calendar-event/council-meeting-17/
LOCATION:Council Chambers\, 1 James Duncan Plaza\, Massillon\, OH\, 44646\, United States
CATEGORIES:City Council Meetings
END:VEVENT
BEGIN:VEVENT
DTSTART;TZID=America/Detroit:20250409T100000
DTEND;TZID=America/Detroit:20250409T110000
DTSTAMP:20260422T054040
CREATED:20250115T142539Z
LAST-MODIFIED:20250404T170016Z
UID:103362-1744192800-1744196400@massillonohio.gov
SUMMARY:Board of Control
DESCRIPTION:
URL:https://massillonohio.gov/calendar-event/board-of-control-86/
LOCATION:Mayors Conference Room\, 151 Lincoln Way East\, Massillon\, OH\, 44646\, United States
END:VEVENT
BEGIN:VEVENT
DTSTART;TZID=America/Detroit:20250409T110000
DTEND;TZID=America/Detroit:20250409T130000
DTSTAMP:20260422T054040
CREATED:20250404T133643Z
LAST-MODIFIED:20250404T133643Z
UID:103975-1744196400-1744203600@massillonohio.gov
SUMMARY:NOPEC Community Meeting
DESCRIPTION:A representative from NOPEC\, Tony Ramos\, will be at the Massillon Senior Center April 9th starting at 11am to answer any questions or concerns you may have with their aggregation plan.
URL:https://massillonohio.gov/calendar-event/nopec-community-meeting/
LOCATION:Massillon Senior Center\, 39 Lincoln Way West\, Massillon\, OH\, 44646\, United States
END:VEVENT
BEGIN:VEVENT
DTSTART;TZID=America/Detroit:20250409T163000
DTEND;TZID=America/Detroit:20250409T170000
DTSTAMP:20260422T054040
CREATED:20250102T145712Z
LAST-MODIFIED:20250102T145712Z
UID:103184-1744216200-1744218000@massillonohio.gov
SUMMARY:Planning Commission
DESCRIPTION:
URL:https://massillonohio.gov/calendar-event/planning-commission-45/
LOCATION:Ivan A. Getz Building\, 54 City Hall Street SE\, Massillon\, OH\, 44646\, United States
END:VEVENT
BEGIN:VEVENT
DTSTART;TZID=America/Detroit:20250409T180000
DTEND;TZID=America/Detroit:20250409T190000
DTSTAMP:20260422T054040
CREATED:20250331T154656Z
LAST-MODIFIED:20250331T154656Z
UID:103953-1744221600-1744225200@massillonohio.gov
SUMMARY:Secret Agents Needed: Join Girl Scouts!
DESCRIPTION:Bring a friend\, make new ones\, and join Girl Scouts for some FREE spy-themed fun! \nCaregivers will learn all about Girl Scouts and troop openings while their girls participate in fun activities.
URL:https://massillonohio.gov/calendar-event/secret-agents-needed-join-girl-scouts/
LOCATION:Jackson Community Library\, 7487 Fulton Drive NW\, Massillon\, OH\, 44646\, United States
END:VEVENT
BEGIN:VEVENT
DTSTART;TZID=America/Detroit:20250410T160000
DTEND;TZID=America/Detroit:20250410T180000
DTSTAMP:20260422T054040
CREATED:20250404T134014Z
LAST-MODIFIED:20250404T134014Z
UID:103978-1744300800-1744308000@massillonohio.gov
SUMMARY:NOPEC Community Meeting
DESCRIPTION:A representative from NOPEC\, Tony Ramos\, will be at the Massillon Recreation Center on April 10th from 4-6pm to answer any questions or concerns you may have with their aggregation plan.
URL:https://massillonohio.gov/calendar-event/nopec-community-meeting-2/
LOCATION:Massillon Recreation Center\, 505 Erie St N\, Massillon\, OH\, 44646\, United States
END:VEVENT
BEGIN:VEVENT
DTSTART;TZID=America/Detroit:20250411T190000
DTEND;TZID=America/Detroit:20250411T220000
DTSTAMP:20260422T054040
CREATED:20250314T153949Z
LAST-MODIFIED:20250314T160132Z
UID:103811-1744398000-1744408800@massillonohio.gov
SUMMARY:Adult Easter Egg Hunt at The Legends
DESCRIPTION:Hop on over for our Adult Easter Egg Hunt! \n$20 per person \nCome enjoy drinks\, dinner\, and bring your flashlights for a one-of-a-kind night-time Easter Egg Hunt. \nPre-registration is required. Register for this event by April 4th\, online at MassillonParks.com or in person at the Massillon Rec Center. \nMust be 21 & over \n 
URL:https://massillonohio.gov/calendar-event/adult-easter-egg-hunt-at-the-legends/
LOCATION:The Legends of Massillon\, 2700 Augusta Drive SE\, Massillon\, OH\, 44646\, United States
END:VEVENT
BEGIN:VEVENT
DTSTART;TZID=America/Detroit:20250411T193000
DTEND;TZID=America/Detroit:20250411T213000
DTSTAMP:20260422T054040
CREATED:20250314T195259Z
LAST-MODIFIED:20250314T195259Z
UID:103819-1744399800-1744407000@massillonohio.gov
SUMMARY:The Best of Led Zeppelin!
DESCRIPTION:Tickets: $35/$45
URL:https://massillonohio.gov/calendar-event/the-best-of-led-zeppelin/
LOCATION:Lion’s Lincoln Theatre\, 156 Lincoln Way East\, Massillon\, OH\, 44646\, United States
END:VEVENT
BEGIN:VEVENT
DTSTART;TZID=America/Detroit:20250412T083000
DTEND;TZID=America/Detroit:20250412T123000
DTSTAMP:20260422T054040
CREATED:20250410T134627Z
LAST-MODIFIED:20250410T134627Z
UID:103997-1744446600-1744461000@massillonohio.gov
SUMMARY:Massillon Income Tax Department Extended Hours
DESCRIPTION:
URL:https://massillonohio.gov/calendar-event/massillon-income-tax-department-extended-hours/
LOCATION:Massillon Income Tax Department\, 1 James Duncan Plaza\, Massillon\, OH\, 44646\, United States
END:VEVENT
BEGIN:VEVENT
DTSTART;TZID=America/Detroit:20250412T133000
DTEND;TZID=America/Detroit:20250412T190000
DTSTAMP:20260422T054040
CREATED:20250314T152256Z
LAST-MODIFIED:20250318T161300Z
UID:103804-1744464600-1744484400@massillonohio.gov
SUMMARY:Spring Eggstravaganza Egg Hunt
DESCRIPTION:The Junior League of Stark County\, Ohio\, Inc. and the Stark Community Jaycees bring you an adult egg pursuit in Duncan Plaza in Massillon\, Ohio.  Check-in begins at 1:30pm in Duncan Plaza Adult Egg Pursuit will begin at 2pm in Duncan Plaza VIP Comedy show at Krackpots from 4-5pm (Doors open at 3pm) Return completed Hoppy Hour passports by 7:00pm to be entered in a drawing to win additional prizes! General tickets available for the egg pursuit ($25 in advance; $30 at the door) VIP tickets include the egg pursuit\, and comedy show at Krackpots  ($40 in advance; $45 at the door) $25 option for comedy show only (4-5pm. Doors open at 3pm) All participants are invited to join the Hoppy Hour to visit participating locations throughout downtown Massillon.  By registering for the event\, you are confirming that you and other people you are purchasing tickets for are 21 or older. You also consent to photos taken during the event. \nWho is the Event going to Support?  \nThe Junior League of Stark County\, Ohio\, Inc. is a women’s organization whose mission is to advance women’s leadership for meaningful community impact through volunteer action\, collaboration\, and training. \nThe Jaycees mission is to provide development opportunities that empower young people to create positive change.
URL:https://massillonohio.gov/calendar-event/spring-eggstravagnza-egg-hunt/
LOCATION:Duncan Plaza\, One James Duncan Plaza\, Massillon\, OH\, 44646\, United States
END:VEVENT
END:VCALENDAR