BEGIN:VCALENDAR
VERSION:2.0
PRODID:-//City of Massillon - ECPv6.15.17.1//NONSGML v1.0//EN
CALSCALE:GREGORIAN
METHOD:PUBLISH
X-ORIGINAL-URL:https://massillonohio.gov
X-WR-CALDESC:Events for City of Massillon
REFRESH-INTERVAL;VALUE=DURATION:PT1H
X-Robots-Tag:noindex
X-PUBLISHED-TTL:PT1H
BEGIN:VTIMEZONE
TZID:America/Detroit
BEGIN:DAYLIGHT
TZOFFSETFROM:-0500
TZOFFSETTO:-0400
TZNAME:EDT
DTSTART:20230312T070000
END:DAYLIGHT
BEGIN:STANDARD
TZOFFSETFROM:-0400
TZOFFSETTO:-0500
TZNAME:EST
DTSTART:20231105T060000
END:STANDARD
BEGIN:DAYLIGHT
TZOFFSETFROM:-0500
TZOFFSETTO:-0400
TZNAME:EDT
DTSTART:20240310T070000
END:DAYLIGHT
BEGIN:STANDARD
TZOFFSETFROM:-0400
TZOFFSETTO:-0500
TZNAME:EST
DTSTART:20241103T060000
END:STANDARD
BEGIN:DAYLIGHT
TZOFFSETFROM:-0500
TZOFFSETTO:-0400
TZNAME:EDT
DTSTART:20250309T070000
END:DAYLIGHT
BEGIN:STANDARD
TZOFFSETFROM:-0400
TZOFFSETTO:-0500
TZNAME:EST
DTSTART:20251102T060000
END:STANDARD
END:VTIMEZONE
BEGIN:VEVENT
DTSTART;TZID=America/Detroit:20240205T183000
DTEND;TZID=America/Detroit:20240205T183000
DTSTAMP:20260421T054800
CREATED:20240119T181956Z
LAST-MODIFIED:20240119T181956Z
UID:99123-1707157800-1707157800@massillonohio.gov
SUMMARY:Council Meeting
DESCRIPTION:
URL:https://massillonohio.gov/calendar-event/council-meeting-53/
LOCATION:Council Chambers\, 1 James Duncan Plaza\, Massillon\, OH\, 44646\, United States
CATEGORIES:City Council Meetings
END:VEVENT
BEGIN:VEVENT
DTSTART;TZID=America/Detroit:20240206T103000
DTEND;TZID=America/Detroit:20240206T110000
DTSTAMP:20260421T054800
CREATED:20240123T150433Z
LAST-MODIFIED:20240123T150443Z
UID:99276-1707215400-1707217200@massillonohio.gov
SUMMARY:Board of Control
DESCRIPTION:Board of Control
URL:https://massillonohio.gov/calendar-event/board-of-control-57/
LOCATION:Mayors Conference Room\, 151 Lincoln Way East\, Massillon\, OH\, 44646\, United States
END:VEVENT
BEGIN:VEVENT
DTSTART;TZID=America/Detroit:20240206T170000
DTEND;TZID=America/Detroit:20240206T173000
DTSTAMP:20260421T054800
CREATED:20240201T203912Z
LAST-MODIFIED:20240201T203912Z
UID:99468-1707238800-1707240600@massillonohio.gov
SUMMARY:Special Civil Service Commission Meeting
DESCRIPTION:
URL:https://massillonohio.gov/calendar-event/special-civil-service-commission-meeting-2/
LOCATION:OH
END:VEVENT
BEGIN:VEVENT
DTSTART;TZID=America/Detroit:20240212T170000
DTEND;TZID=America/Detroit:20240212T173000
DTSTAMP:20260421T054800
CREATED:20240110T183431Z
LAST-MODIFIED:20240110T183431Z
UID:98825-1707757200-1707759000@massillonohio.gov
SUMMARY:Civil Service Commission Meeting
DESCRIPTION:
URL:https://massillonohio.gov/calendar-event/civil-service-commission-meeting-29/
LOCATION:Ivan A. Getz Building\, 54 City Hall Street SE\, Massillon\, OH\, 44646\, United States
ORGANIZER;CN="Jim Thieret":MAILTO:jthieret@massillonohio.gov
END:VEVENT
BEGIN:VEVENT
DTSTART;TZID=America/Detroit:20240212T183000
DTEND;TZID=America/Detroit:20240212T183000
DTSTAMP:20260421T054800
CREATED:20240119T182634Z
LAST-MODIFIED:20240119T182634Z
UID:99134-1707762600-1707762600@massillonohio.gov
SUMMARY:Committee Meeting
DESCRIPTION:
URL:https://massillonohio.gov/calendar-event/committee-meeting-53/
LOCATION:Council Chambers\, 1 James Duncan Plaza\, Massillon\, OH\, 44646\, United States
CATEGORIES:City Council Meetings
END:VEVENT
BEGIN:VEVENT
DTSTART;TZID=America/Detroit:20240214T163000
DTEND;TZID=America/Detroit:20240214T173000
DTSTAMP:20260421T054800
CREATED:20240103T151303Z
LAST-MODIFIED:20240103T151313Z
UID:98624-1707928200-1707931800@massillonohio.gov
SUMMARY:Planning Commission
DESCRIPTION:
URL:https://massillonohio.gov/calendar-event/planning-commission-31/
LOCATION:OH
END:VEVENT
BEGIN:VEVENT
DTSTART;VALUE=DATE:20240219
DTEND;VALUE=DATE:20240220
DTSTAMP:20260421T054800
CREATED:20240119T183358Z
LAST-MODIFIED:20240119T183358Z
UID:99144-1708300800-1708387199@massillonohio.gov
SUMMARY:President's Day - No Meeeting
DESCRIPTION:
URL:https://massillonohio.gov/calendar-event/presidents-day-no-meeeting/
LOCATION:OH
CATEGORIES:City Council Meetings
END:VEVENT
BEGIN:VEVENT
DTSTART;TZID=America/Detroit:20240220T183000
DTEND;TZID=America/Detroit:20240220T183000
DTSTAMP:20260421T054800
CREATED:20240119T182722Z
LAST-MODIFIED:20240119T182812Z
UID:99136-1708453800-1708453800@massillonohio.gov
SUMMARY:Council Meeting
DESCRIPTION:
URL:https://massillonohio.gov/calendar-event/council-meeting-54/
LOCATION:Council Chambers\, 1 James Duncan Plaza\, Massillon\, OH\, 44646\, United States
CATEGORIES:City Council Meetings
END:VEVENT
BEGIN:VEVENT
DTSTART;TZID=America/Detroit:20240221T103000
DTEND;TZID=America/Detroit:20240221T110000
DTSTAMP:20260421T054800
CREATED:20240123T150654Z
LAST-MODIFIED:20240123T150700Z
UID:99278-1708511400-1708513200@massillonohio.gov
SUMMARY:Board of Control
DESCRIPTION:Board of Control
URL:https://massillonohio.gov/calendar-event/board-of-control-58/
LOCATION:Mayors Conference Room\, 151 Lincoln Way East\, Massillon\, OH\, 44646\, United States
END:VEVENT
BEGIN:VEVENT
DTSTART;TZID=America/Detroit:20240226T183000
DTEND;TZID=America/Detroit:20240226T183000
DTSTAMP:20260421T054800
CREATED:20240119T183131Z
LAST-MODIFIED:20240119T183131Z
UID:99142-1708972200-1708972200@massillonohio.gov
SUMMARY:Committee Meeting
DESCRIPTION:
URL:https://massillonohio.gov/calendar-event/committee-meeting-54/
LOCATION:Council Chambers\, 1 James Duncan Plaza\, Massillon\, OH\, 44646\, United States
CATEGORIES:City Council Meetings
END:VEVENT
END:VCALENDAR